BEGIN:VCALENDAR
VERSION:2.0
PRODID:-//wp-events-plugin.com//7.2.3.1//EN
BEGIN:VEVENT
UID:63@mc-bochum.de
DTSTART:20200604T190000Z
DTEND:20200604T194500Z
DTSTAMP:20200605T101219Z
URL:https://www.mc-bochum.de/veranstaltungen/live-clubabend-zum-thema-sind
 -online-events-die-zukunft/
SUMMARY:Livestream-Clubabend „Sind Online-Events die Zukunft?"
DESCRIPTION:Welche Herausforderungen und Formate gibt es\, wie stellen sich
  Veranstalter darauf ein und wie sieht womöglich die Zukunft aus? Neben d
 iesen und weiteren Themen stellen wir Ihnen auch Neuigkeiten des DMV vor. 
 Zum Ende der Sendung lassen wir Sie Bochum aus einem neuen Blickwinkel erl
 eben – seien Sie gespannt.
ATTACH;FMTTYPE=image/jpeg:https://www.mc-bochum.de/wp-content/uploads/2020
 /06/2020-06-04_Livesendung-mit-Gästen-zum-Thema-Veranstaltungen-von-heute
 -und-Morgen.jpg
CATEGORIES:Im Rückblick
END:VEVENT
END:VCALENDAR