BEGIN:VCALENDAR
VERSION:2.0
PRODID:-//wp-events-plugin.com//7.2.3.1//EN
BEGIN:VEVENT
UID:85@mc-bochum.de
DTSTART:20220425T173000Z
DTEND:20220425T183000Z
DTSTAMP:20220422T160011Z
URL:https://www.mc-bochum.de/veranstaltungen/dmv-zu-gast-bei-hellofresh/
SUMMARY:DMV zu Gast bei HelloFresh
DESCRIPTION:\n\n\n\n\nLernen Sie den Gewinner des Deutschen Marketing Preis
  2021 kennen\, wenn es am 25. April 2022 ab 17:30 Uhr heißt:\n„Der DMV 
 zu Gast bei HelloFresh".\n\n\n\n\n\n\n\n\n\n\n\nAnders als in den Jahren z
 uvor veranstalten wir eine zentrale Highlight-Veranstaltung im Headquarter
  von HelloFresh\, bei der alle Mitglieder und Interessierte digital dabei 
 sein können.\n\nSchalten Sie unbedingt ein\, wenn DMV-Präsident und Mo
 derator des Abends - Dr. Ralf E. Strauß - die Siegertrophäe an Björn 
 Kuse\, Managing Director &amp\; CMO DACH HelloFresh überreicht.\n\nAnsch
 ließend bereitet HelloFresh Rezeptentwickler Marco Hartz ein Rezept aus d
 er aktuellen Kochbox zu und steht für Fragen rund um die Rezeptentwicklu
 ng zur Verfügung.\n\nWir werfen einen Blick hinter die Kulissen des Unte
 rnehmens und\ndas Themenfeld Nachhaltigkeit und erfahren mehr über die\n
 neue „Veganuary Campaign“ sowie die unerschöpfliche Rezeptvielfalt m
 it aktuell 34 frischen Rezepten jede Woche. Dazu geht es im Live-Cooking a
 uch ran an die Töpfe unter professioneller Anleitung von Marco Hartz.\n\
 n\n\n\n\n\n\n\n&nbsp\;\n\nDie Veranstaltung wird live übertragen und ist
  kostenlos\, ohne vorherige Anmeldung für alle Mitglieder und Interessie
 rte der Marketing Clubs hier abrufbar.\n\n\n\n\n\n\n\n\n\n\n\n\n
ATTACH;FMTTYPE=image/jpeg:https://www.mc-bochum.de/wp-content/uploads/2022
 /04/zuGast_DMP_16zu9.jpg
END:VEVENT
END:VCALENDAR