BEGIN:VCALENDAR
VERSION:2.0
PRODID:-//wp-events-plugin.com//7.2.3.1//EN
BEGIN:VEVENT
UID:86@mc-bochum.de
DTSTART:20220428T123000Z
DTEND:20220428T133000Z
DTSTAMP:20220422T162451Z
URL:https://www.mc-bochum.de/veranstaltungen/dmv-x-salesforce-webinar-wie-
 unternehmen-ihre-first-party-data-strategie-jetzt-neu-denken-muessen/
SUMMARY:DMV x Salesforce Webinar "Wie Unternehmen ihre First-Party-Data-Str
 ategie jetzt neu denken müssen"
DESCRIPTION:Wir freuen uns\, unseren Mitgliedern ein weiteres Webinar zum T
 rendthema "Daten" gemeinsam mit Salesforce anzubieten.\nDieses mal geht es
  um Strategien und smarte Möglichkeiten zur Sammlung von First-Party Data
 \, um personalisierte Kundenerlebnisse zu schaffen und weitestgehend unabh
 ängig von anderen Drittanbieterplattformen zu machen.\n\nWenn sich eine T
 ür schließt\, öffnet sich eine andere. Wie Unternehmen ihre First-Party
 -Data-Strategie jetzt neu denken müssen?\n\nJulia Zittlau\, Senior Manage
 r Digital Marketing und Sheila Moghaddam Ghazvini\, Senior Manager\, Campa
 igns Marketing &amp\; Commerce von Salesforce werden beide Beispiele für 
 Demand Generation bei Salesforce geben.
ATTACH;FMTTYPE=image/jpeg:https://www.mc-bochum.de/wp-content/uploads/2022
 /04/salesforce_blue.jpeg
END:VEVENT
END:VCALENDAR