BEGIN:VCALENDAR
VERSION:2.0
PRODID:-//wp-events-plugin.com//7.2.3.1//EN
BEGIN:VEVENT
UID:90@mc-bochum.de
DTSTART:20231113T180000Z
DTEND:20231113T213000Z
DTSTAMP:20231026T144604Z
URL:https://www.mc-bochum.de/veranstaltungen/b2b-marketing-und-generative-
 ki-strategien-fuer-business-entscheider/
SUMMARY:B2B Marketing und generative KI Strategien für Business-Entscheide
 r
DESCRIPTION:Benjamin Zaczek\, Gründer und CEO von SalesViewer®\, der füh
 renden Sales-Intelligence- und Go-To-Market-Software im deutschsprachigen 
 Raum\, und Jens Polomski\, renommierter Tech- & Keynotespeaker\, OMR Onlin
 e-Marketing-Experte und anerkannte LinkedIn Top Voice im Bereich Künstlic
 he Intelligenz\, liefern in ihren inspirierenden Vorträgen tiefgehende Ei
 nblicke in die B2B-Marketing-Landschaft und veranschaulichen das enorme Po
 tenzial von Marketing-Tools in Verbindung mit generativer Künstlicher Int
 elligenz.
ATTACH;FMTTYPE=image/jpeg:https://www.mc-bochum.de/wp-content/uploads/2023
 /10/marketingclub_header_bnb.jpg
CATEGORIES:Programmvorschau
LOCATION:Jahrhunderthalle Bochum - Dampfgebläsehaus\, An der Jahrhundertha
 lle 1\, Bochum\, NRW\, 44793\, Deutschland
GEO:51.48151;7.198750000000018
X-APPLE-STRUCTURED-LOCATION;VALUE=URI;X-ADDRESS=An der Jahrhunderthalle 1\,
  Bochum\, NRW\, 44793\, Deutschland;X-APPLE-RADIUS=100;X-TITLE=Jahrhundert
 halle Bochum - Dampfgebläsehaus:geo:51.48151,7.198750000000018
END:VEVENT
END:VCALENDAR