BEGIN:VCALENDAR
VERSION:2.0
PRODID:-//wp-events-plugin.com//7.2.3.1//EN
BEGIN:VEVENT
UID:68@mc-bochum.de
DTSTART:20200929T170000Z
DTEND:20200929T173000Z
DTSTAMP:20200930T110038Z
URL:https://www.mc-bochum.de/veranstaltungen/29-09-2020-marketing-talk-mit
 -hubert-hundt-leiter-der-hochschulkommunikation-der-ruhr-universitaet-boch
 um/
SUMMARY:29.09.2020 // Marketing Talk zur Hochschulkommunikation der Ruhr-Un
 iversität Bochum
DESCRIPTION:Im vergangenen Jahr wurde Hubert Hundt der neue Leiter der Hoch
 schulkommunikation der Ruhr-Universität Bochum (RUB). Wir sprechen mit ih
 m über das Aufgabenfeld Hochschulkommunikation\, Krisenkommunikation\, we
 lche Bedeutung die RUB für Bochum hat und wie sich der Campus der RUB in 
 die Stadtlandschaft integriert und wie die Hochschulandschaft das zukünft
 ige Stadtbild Bochums prägen wird.
ATTACH;FMTTYPE=image/jpeg:https://www.mc-bochum.de/wp-content/uploads/2020
 /09/2019_03_06_KM_Hundt_Hubert-2-scaled.jpg
CATEGORIES:Programmvorschau
END:VEVENT
END:VCALENDAR