BEGIN:VCALENDAR
VERSION:2.0
PRODID:-//wp-events-plugin.com//7.2.3.1//EN
BEGIN:VEVENT
UID:71@mc-bochum.de
DTSTART:20210127T180000Z
DTEND:20210127T200000Z
DTSTAMP:20210122T080647Z
URL:https://www.mc-bochum.de/veranstaltungen/27-01-2021-dmv-european-marke
 ting-agenda-2021-der-weg-zum-data-driven-marketing/
SUMMARY:27.01.2021 // DMV - European Marketing Agenda 2021 // Der Weg zum D
 ata-Driven Marketing
DESCRIPTION:Bundesweites Online-Event des Deutschen Marketing Verbandes\n\n
 27.01.2021 // Einladung DMV - European Marketing Agenda 2021 // Der Weg zu
 m Data-Driven Marketing\n\n\nLiebe Club-Freunde und Club-Freundinnen\,\n\n
 Die Pandemie wirkte in vielen Unternehmens- und Lebensbereichen wie ein Br
 andbeschleuniger auf die Digitalisierung\, was sich auch im Marketing star
 k bemerkbar macht. Unternehmen fokussieren ihre Projekte wegen (oder trotz
 ) Corona im Digital-Bereich\, starten neue Projekte zur Digitalisierung un
 d organisatorischer Neuaufstellung.\n\nEine Digitale Transformation bei gl
 eichzeitiger Verteidigung des Bestehenden war meist zum Scheitern verurtei
 lt. Damit haben wir eine zwiespältige Situation: Auf der einen Seite steh
 en Startups\, die nur darauf warten\, bisherige Geschäftsmodelle zu kann
 ibalisieren\, auf der anderen Seite stehen schmerzhafte und kostenintensiv
 en Erfahrungen aus gemeinsamen Marketing-\, Vertriebs- und IT-Projekten. F
 ür Kunden und Verbraucher sind digitale Innovationen längst Teil des Al
 ltags (WhatsApp\, Netflix u.a.) und werden in erstaunlichem Tempo adaptier
 t.\n\nDie Marketing- und Vertriebsleiter\, die im Rahmen der European Mark
 eting Agenda 2021 gemeinsam mit der European Marketing Confederation (EMC)
  jährlich befragt werden\, nannten als wichtigste Themenstellung für 202
 1 das „Digitale Marketing allgemein“\, gefolgt von Aufgaben rund um da
 s digitale Customer Relationship Management.\n\nRalf Strauß\, Präsident 
 des Deutschen Marketing Verbandes und Autor der „European Marketing Age
 nda 2021“ wird nach einer Einführung gemeinsam mit: \n\nKerstin Pape\,
  Bereichsleiterin Customer Excellence\, Mobilcom-debitel\nFlorian Gmeiner
 \, Senior Director Marketing EUC\, LEGO\nAndreas-Christoph Hofmann\, Vic
 e President Marketing &amp\; Product (CMO)\, Hyundai\nMarcus Karst\, Bere
 ichsleiter Corporate Marketing\, CLAAS KGaA mbH\nDr. Philip Beckmann\, Ge
 schäftsführer / Vorstand\, E.ON Energie Deutschland GmbH\n\nüber die He
 rausforderungen und das Zukunftsszenario des Marketing 2021 diskutieren.\n
 \nDer Deutsche Marketing Verband und wir laden Euch herzlichst zu diesem d
 eutschlandweiten Event ein!\n\nCarsten Köchel und Oliver Daniel Sopalla\n
 \nTermin: Mittwoch\, 27. Januar 2021\nZeit: 18.00 Uhr bis 20.00 Uhr\nOrt: 
 Online\nKostenbeitrag: kostenfrei\n\nOnline-Veranstaltung: Der Link wird k
 urz vor der Veranstaltung verschickt\n\nBitte meldet Euch bis spätestens
  Freitag\, 22.01.2021 per E-Mail verbindlich bei unserer Geschäftsstelle
 n-Leitung an (geschaeftsstelle@marketing-club-bochum.de). So können wir p
 ünktlich die Anzahl der teilnehmenden Clubmitglieder an den DMV weiterle
 iten.\n
ATTACH;FMTTYPE=image/jpeg:https://www.mc-bochum.de/wp-content/uploads/2021
 /01/csm_210127_mv_jahresauftakt_b_a70fcd6443.jpg
CATEGORIES:Programmvorschau
END:VEVENT
END:VCALENDAR