BEGIN:VCALENDAR
VERSION:2.0
PRODID:-//wp-events-plugin.com//7.2.3.1//EN
BEGIN:VEVENT
UID:80@mc-bochum.de
DTSTART:20220221T183000Z
DTEND:20220221T200000Z
DTSTAMP:20220221T091940Z
URL:https://www.mc-bochum.de/veranstaltungen/21-02-2022-parship-lasst-uns-
 dating-wieder-besser-machen/
SUMMARY:21.02.2022 // Parship – Lasst uns Dating wieder besser machen
DESCRIPTION:Parship und ODALINE referieren gemeinsam über den neuen Marken
 auftritt und die Kommunikationsstrategie der aktuellen Marketingkampagne
ATTACH;FMTTYPE=image/jpeg:https://www.mc-bochum.de/wp-content/uploads/2022
 /02/220114_PS_ART-6455_Thumbnail_Longcopy_YouTube_1920x1080.jpeg
CATEGORIES:Programmvorschau
END:VEVENT
END:VCALENDAR