BEGIN:VCALENDAR
VERSION:2.0
PRODID:-//wp-events-plugin.com//7.2.3.1//EN
BEGIN:VEVENT
UID:78@mc-bochum.de
DTSTART:20210824T190000Z
DTEND:20210824T220000Z
DTSTAMP:20210812T120120Z
URL:https://www.mc-bochum.de/veranstaltungen/16-marketing-award-21-summer-
 edition/
SUMMARY:16. Marketing Award ’21 – Summer Edition
DESCRIPTION:Feierliche Preisverleihung am 24.8.2021 im Park am Haus Weitmar
  – SituationKunst. Der Marketing Award 2021 geht an die Stadt Bochum. Ob
 erbürgermeister Thomas Eiskirch wird den Preis für die hervorragende Mar
 kenführung der Stadtmarke entgegen nehmen.
ATTACH;FMTTYPE=image/jpeg:https://www.mc-bochum.de/wp-content/uploads/2021
 /08/Screenshot-2021-08-05-at-15.04.04.png
CATEGORIES:Marketing-Award
LOCATION:Situation Kunst\, Park von Haus Weitmar\, Hattinger Straße 368 \,
  Bochum\, 44795\, Deutschland
GEO:51.44843;7.18915
X-APPLE-STRUCTURED-LOCATION;VALUE=URI;X-ADDRESS=Hattinger Straße 368 \, Bo
 chum\, 44795\, Deutschland;X-APPLE-RADIUS=100;X-TITLE=Situation Kunst\, Pa
 rk von Haus Weitmar:geo:51.44843,7.18915
END:VEVENT
END:VCALENDAR