BEGIN:VCALENDAR
VERSION:2.0
PRODID:-//wp-events-plugin.com//7.2.3.1//EN
BEGIN:VEVENT
UID:4@mc-bochum.de
DTSTART:20191015T190000Z
DTEND:20191015T210000Z
DTSTAMP:20200603T164516Z
URL:https://www.mc-bochum.de/veranstaltungen/15-10-2019-podcasts-endlich-d
 a-einblicke-zum-gls-bank-corporate-podcasts-mit-rouven-kasten/
SUMMARY:Podcasts – Endlich da! Einblicke zum GLS Bank Corporate Podcasts 
 mit Rouven Kasten
DESCRIPTION:Podcasts – Endlich da! Einblicke zum GLS Bank Corporate Podca
 sts mit Rouven Kasten\n\nPodcast gibt es seit langem\, doch erst jetzt wer
 den sie als ein weiterer ernst zu nehmender Kommunikationskanal akzeptiert
 . Bei Nutzern wie bei den Produzenten. Erstaunlich: Podcasts haben entgege
 n der Nutzung anderer Medien eine ganz andere Sendelänge. Nicht selten wi
 dmen sich Podcasts einem Thema über eine Dauer von 60 Minuten – und die
  Hörer bleiben dran.\n\nDas haben auch Corporate-Podcast-Macher erkannt u
 nd setzen Formate um\, die im Rahmen des Content Marketing Vertiefung und 
 echte Auseinandersetzung versprechen. So auch die GLS Bank. Rouven Kasten 
 ist der Produzent der Bank und interviewt Kollegen\, Kunden und Spezialist
 en – inzwischen ist die 23. Episode on air. https://blog.gls.de/podcast
 /gls-bank-podcast-folge-1/\n\nRouven war bei uns zu Gast und wir haben ein
 en Podcast produziert. Wie macht man Podcasts? Auf was ist zu achten? Wann
  sind sie ein Erfolg?\n\nRouven Kasten ist aufgewachsen mit Raider\, Pink 
 Floyd\, Atari und seit 1995 nicht mehr offline gewesen. Privat bloggt und 
 twittert er als @gestalterhuette. Bei der GLS Bank steht und lebt er für 
 alle Social Media Kanäle.
ATTACH;FMTTYPE=image/jpeg:https://www.mc-bochum.de/wp-content/uploads/2019
 /10/quader-1024x1024-1-e1591202696155.jpg
CATEGORIES:Im Rückblick
LOCATION:Rotunde Bochum\, Viktoriastr. 75\, Bochum\, NRW\, 44787\, Deutschl
 and
GEO:51.476225;7.2155
X-APPLE-STRUCTURED-LOCATION;VALUE=URI;X-ADDRESS=Viktoriastr. 75\, Bochum\, 
 NRW\, 44787\, Deutschland;X-APPLE-RADIUS=100;X-TITLE=Rotunde Bochum:geo:51
 .476225,7.2155
END:VEVENT
END:VCALENDAR